BEGIN:VCALENDAR
VERSION:2.0
PRODID:-//Struer Sejlklub - ECPv6.15.20//NONSGML v1.0//EN
CALSCALE:GREGORIAN
METHOD:PUBLISH
X-ORIGINAL-URL:https://struersejlklub.dk
X-WR-CALDESC:Begivenheder for Struer Sejlklub
REFRESH-INTERVAL;VALUE=DURATION:PT1H
X-Robots-Tag:noindex
X-PUBLISHED-TTL:PT1H
BEGIN:VTIMEZONE
TZID:Europe/Copenhagen
BEGIN:DAYLIGHT
TZOFFSETFROM:+0100
TZOFFSETTO:+0200
TZNAME:CEST
DTSTART:20250330T010000
END:DAYLIGHT
BEGIN:STANDARD
TZOFFSETFROM:+0200
TZOFFSETTO:+0100
TZNAME:CET
DTSTART:20251026T010000
END:STANDARD
BEGIN:DAYLIGHT
TZOFFSETFROM:+0100
TZOFFSETTO:+0200
TZNAME:CEST
DTSTART:20260329T010000
END:DAYLIGHT
BEGIN:STANDARD
TZOFFSETFROM:+0200
TZOFFSETTO:+0100
TZNAME:CET
DTSTART:20261025T010000
END:STANDARD
BEGIN:DAYLIGHT
TZOFFSETFROM:+0100
TZOFFSETTO:+0200
TZNAME:CEST
DTSTART:20270328T010000
END:DAYLIGHT
BEGIN:STANDARD
TZOFFSETFROM:+0200
TZOFFSETTO:+0100
TZNAME:CET
DTSTART:20271031T010000
END:STANDARD
END:VTIMEZONE
BEGIN:VEVENT
DTSTART;TZID=Europe/Copenhagen:20260902T170000
DTEND;TZID=Europe/Copenhagen:20260902T230000
DTSTAMP:20260422T225218
CREATED:20251205T135155Z
LAST-MODIFIED:20251205T135155Z
UID:5350-1788368400-1788390000@struersejlklub.dk
SUMMARY:Onsdagssejlads
DESCRIPTION:
URL:https://struersejlklub.dk/kalender/onsdagssejlads-15/
LOCATION:Struer Sejlklub\, Ved Fjorden 14\, Struer\, 7600\, Denmark
CATEGORIES:Kapsejlads,Udlejning
ATTACH;FMTTYPE=image/jpeg:https://struersejlklub.dk/wp-content/uploads/Begivenheder/Onsdagssejlads_1.jpg
END:VEVENT
BEGIN:VEVENT
DTSTART;TZID=Europe/Copenhagen:20260909T170000
DTEND;TZID=Europe/Copenhagen:20260909T230000
DTSTAMP:20260422T225218
CREATED:20251205T135202Z
LAST-MODIFIED:20251205T135202Z
UID:5349-1788973200-1788994800@struersejlklub.dk
SUMMARY:Onsdagssejlads
DESCRIPTION:
URL:https://struersejlklub.dk/kalender/onsdagssejlads-16/
LOCATION:Struer Sejlklub\, Ved Fjorden 14\, Struer\, 7600\, Denmark
CATEGORIES:Kapsejlads,Udlejning
ATTACH;FMTTYPE=image/jpeg:https://struersejlklub.dk/wp-content/uploads/Begivenheder/Onsdagssejlads_1.jpg
END:VEVENT
BEGIN:VEVENT
DTSTART;TZID=Europe/Copenhagen:20260916T170000
DTEND;TZID=Europe/Copenhagen:20260916T230000
DTSTAMP:20260422T225218
CREATED:20251205T135209Z
LAST-MODIFIED:20251205T135209Z
UID:5348-1789578000-1789599600@struersejlklub.dk
SUMMARY:Onsdagssejlads
DESCRIPTION:
URL:https://struersejlklub.dk/kalender/onsdagssejlads-17/
LOCATION:Struer Sejlklub\, Ved Fjorden 14\, Struer\, 7600\, Denmark
CATEGORIES:Kapsejlads,Udlejning
ATTACH;FMTTYPE=image/jpeg:https://struersejlklub.dk/wp-content/uploads/Begivenheder/Onsdagssejlads_1.jpg
END:VEVENT
BEGIN:VEVENT
DTSTART;TZID=Europe/Copenhagen:20260923T170000
DTEND;TZID=Europe/Copenhagen:20260923T230000
DTSTAMP:20260422T225218
CREATED:20251205T135215Z
LAST-MODIFIED:20251205T135215Z
UID:5347-1790182800-1790204400@struersejlklub.dk
SUMMARY:Onsdagssejlads
DESCRIPTION:
URL:https://struersejlklub.dk/kalender/onsdagssejlads-18/
LOCATION:Struer Sejlklub\, Ved Fjorden 14\, Struer\, 7600\, Denmark
CATEGORIES:Kapsejlads,Udlejning
ATTACH;FMTTYPE=image/jpeg:https://struersejlklub.dk/wp-content/uploads/Begivenheder/Onsdagssejlads_1.jpg
END:VEVENT
BEGIN:VEVENT
DTSTART;TZID=Europe/Copenhagen:20260926T090000
DTEND;TZID=Europe/Copenhagen:20260926T190000
DTSTAMP:20260422T225218
CREATED:20251205T135250Z
LAST-MODIFIED:20251205T135250Z
UID:5344-1790413200-1790449200@struersejlklub.dk
SUMMARY:Venø Rundt
DESCRIPTION:
URL:https://struersejlklub.dk/kalender/venoe-rundt/
LOCATION:Struer Sejlklub\, Ved Fjorden 14\, Struer\, 7600\, Denmark
CATEGORIES:Kapsejlads,Udlejning
ATTACH;FMTTYPE=image/jpeg:https://struersejlklub.dk/wp-content/uploads/Begivenheder/Onsdagssejlads_1.jpg
END:VEVENT
BEGIN:VEVENT
DTSTART;TZID=Europe/Copenhagen:20260930T170000
DTEND;TZID=Europe/Copenhagen:20260930T230000
DTSTAMP:20260422T225218
CREATED:20251205T135222Z
LAST-MODIFIED:20251205T135222Z
UID:5346-1790787600-1790809200@struersejlklub.dk
SUMMARY:Onsdagssejlads
DESCRIPTION:
URL:https://struersejlklub.dk/kalender/onsdagssejlads-19/
LOCATION:Struer Sejlklub\, Ved Fjorden 14\, Struer\, 7600\, Denmark
CATEGORIES:Kapsejlads,Udlejning
ATTACH;FMTTYPE=image/jpeg:https://struersejlklub.dk/wp-content/uploads/Begivenheder/Onsdagssejlads_1.jpg
END:VEVENT
END:VCALENDAR