BEGIN:VCALENDAR
VERSION:2.0
PRODID:-//Struer Sejlklub - ECPv6.15.20//NONSGML v1.0//EN
CALSCALE:GREGORIAN
METHOD:PUBLISH
X-ORIGINAL-URL:https://struersejlklub.dk
X-WR-CALDESC:Begivenheder for Struer Sejlklub
REFRESH-INTERVAL;VALUE=DURATION:PT1H
X-Robots-Tag:noindex
X-PUBLISHED-TTL:PT1H
BEGIN:VTIMEZONE
TZID:Europe/Copenhagen
BEGIN:DAYLIGHT
TZOFFSETFROM:+0100
TZOFFSETTO:+0200
TZNAME:CEST
DTSTART:20250330T010000
END:DAYLIGHT
BEGIN:STANDARD
TZOFFSETFROM:+0200
TZOFFSETTO:+0100
TZNAME:CET
DTSTART:20251026T010000
END:STANDARD
BEGIN:DAYLIGHT
TZOFFSETFROM:+0100
TZOFFSETTO:+0200
TZNAME:CEST
DTSTART:20260329T010000
END:DAYLIGHT
BEGIN:STANDARD
TZOFFSETFROM:+0200
TZOFFSETTO:+0100
TZNAME:CET
DTSTART:20261025T010000
END:STANDARD
BEGIN:DAYLIGHT
TZOFFSETFROM:+0100
TZOFFSETTO:+0200
TZNAME:CEST
DTSTART:20270328T010000
END:DAYLIGHT
BEGIN:STANDARD
TZOFFSETFROM:+0200
TZOFFSETTO:+0100
TZNAME:CET
DTSTART:20271031T010000
END:STANDARD
END:VTIMEZONE
BEGIN:VEVENT
DTSTART;TZID=Europe/Copenhagen:20260805T170000
DTEND;TZID=Europe/Copenhagen:20260805T230000
DTSTAMP:20260422T211908
CREATED:20251205T135132Z
LAST-MODIFIED:20251205T135132Z
UID:5354-1785949200-1785970800@struersejlklub.dk
SUMMARY:Onsdagssejlads
DESCRIPTION:
URL:https://struersejlklub.dk/kalender/onsdagssejlads-11/
LOCATION:Struer Sejlklub\, Ved Fjorden 14\, Struer\, 7600\, Denmark
CATEGORIES:Kapsejlads,Udlejning
ATTACH;FMTTYPE=image/jpeg:https://struersejlklub.dk/wp-content/uploads/Begivenheder/Onsdagssejlads_1.jpg
END:VEVENT
BEGIN:VEVENT
DTSTART;TZID=Europe/Copenhagen:20260812T170000
DTEND;TZID=Europe/Copenhagen:20260812T230000
DTSTAMP:20260422T211908
CREATED:20251205T135132Z
LAST-MODIFIED:20251205T135132Z
UID:5353-1786554000-1786575600@struersejlklub.dk
SUMMARY:Onsdagssejlads
DESCRIPTION:
URL:https://struersejlklub.dk/kalender/onsdagssejlads-12/
LOCATION:Struer Sejlklub\, Ved Fjorden 14\, Struer\, 7600\, Denmark
CATEGORIES:Kapsejlads,Udlejning
ATTACH;FMTTYPE=image/jpeg:https://struersejlklub.dk/wp-content/uploads/Begivenheder/Onsdagssejlads_1.jpg
END:VEVENT
BEGIN:VEVENT
DTSTART;TZID=Europe/Copenhagen:20260819T170000
DTEND;TZID=Europe/Copenhagen:20260819T230000
DTSTAMP:20260422T211908
CREATED:20251205T135142Z
LAST-MODIFIED:20251205T135142Z
UID:5352-1787158800-1787180400@struersejlklub.dk
SUMMARY:Onsdagssejlads
DESCRIPTION:
URL:https://struersejlklub.dk/kalender/onsdagssejlads-13/
LOCATION:Struer Sejlklub\, Ved Fjorden 14\, Struer\, 7600\, Denmark
CATEGORIES:Kapsejlads,Udlejning
ATTACH;FMTTYPE=image/jpeg:https://struersejlklub.dk/wp-content/uploads/Begivenheder/Onsdagssejlads_1.jpg
END:VEVENT
BEGIN:VEVENT
DTSTART;TZID=Europe/Copenhagen:20260822T080000
DTEND;TZID=Europe/Copenhagen:20260823T080000
DTSTAMP:20260422T211908
CREATED:20260118T144725Z
LAST-MODIFIED:20260118T144725Z
UID:5441-1787385600-1787472000@struersejlklub.dk
SUMMARY:Salen udlejet
DESCRIPTION:Britt Lundager
URL:https://struersejlklub.dk/kalender/salen-udlejet-7/
LOCATION:Struer Sejlklub\, Ved Fjorden 14\, Struer\, 7600\, Denmark
CATEGORIES:Udlejning
ATTACH;FMTTYPE=image/jpeg:https://struersejlklub.dk/wp-content/uploads/Klubhus/Salen.jpeg
END:VEVENT
BEGIN:VEVENT
DTSTART;TZID=Europe/Copenhagen:20260826T170000
DTEND;TZID=Europe/Copenhagen:20260826T230000
DTSTAMP:20260422T211908
CREATED:20251205T135147Z
LAST-MODIFIED:20251205T135147Z
UID:5351-1787763600-1787785200@struersejlklub.dk
SUMMARY:Onsdagssejlads
DESCRIPTION:
URL:https://struersejlklub.dk/kalender/onsdagssejlads-14/
LOCATION:Struer Sejlklub\, Ved Fjorden 14\, Struer\, 7600\, Denmark
CATEGORIES:Kapsejlads,Udlejning
ATTACH;FMTTYPE=image/jpeg:https://struersejlklub.dk/wp-content/uploads/Begivenheder/Onsdagssejlads_1.jpg
END:VEVENT
BEGIN:VEVENT
DTSTART;VALUE=DATE:20260829
DTEND;VALUE=DATE:20260831
DTSTAMP:20260422T211908
CREATED:20260116T150213Z
LAST-MODIFIED:20260413T165112Z
UID:5437-1787961600-1788134399@struersejlklub.dk
SUMMARY:Salen optaget - Familierally
DESCRIPTION:Familierally
URL:https://struersejlklub.dk/kalender/salen-optaget-familierally/
LOCATION:Struer Sejlklub\, Ved Fjorden 14\, Struer\, 7600\, Denmark
CATEGORIES:Klubarrangement,Udlejning
ATTACH;FMTTYPE=image/jpeg:https://struersejlklub.dk/wp-content/uploads/Klubhus/Salen.jpeg
END:VEVENT
END:VCALENDAR