BEGIN:VCALENDAR
VERSION:2.0
PRODID:-//Struer Sejlklub - ECPv6.15.20//NONSGML v1.0//EN
CALSCALE:GREGORIAN
METHOD:PUBLISH
X-WR-CALNAME:Struer Sejlklub
X-ORIGINAL-URL:https://struersejlklub.dk
X-WR-CALDESC:Begivenheder for Struer Sejlklub
REFRESH-INTERVAL;VALUE=DURATION:PT1H
X-Robots-Tag:noindex
X-PUBLISHED-TTL:PT1H
BEGIN:VTIMEZONE
TZID:Europe/Copenhagen
BEGIN:DAYLIGHT
TZOFFSETFROM:+0100
TZOFFSETTO:+0200
TZNAME:CEST
DTSTART:20250330T010000
END:DAYLIGHT
BEGIN:STANDARD
TZOFFSETFROM:+0200
TZOFFSETTO:+0100
TZNAME:CET
DTSTART:20251026T010000
END:STANDARD
BEGIN:DAYLIGHT
TZOFFSETFROM:+0100
TZOFFSETTO:+0200
TZNAME:CEST
DTSTART:20260329T010000
END:DAYLIGHT
BEGIN:STANDARD
TZOFFSETFROM:+0200
TZOFFSETTO:+0100
TZNAME:CET
DTSTART:20261025T010000
END:STANDARD
BEGIN:DAYLIGHT
TZOFFSETFROM:+0100
TZOFFSETTO:+0200
TZNAME:CEST
DTSTART:20270328T010000
END:DAYLIGHT
BEGIN:STANDARD
TZOFFSETFROM:+0200
TZOFFSETTO:+0100
TZNAME:CET
DTSTART:20271031T010000
END:STANDARD
END:VTIMEZONE
BEGIN:VEVENT
DTSTART;TZID=Europe/Copenhagen:20260603T170000
DTEND;TZID=Europe/Copenhagen:20260603T230000
DTSTAMP:20260422T175918
CREATED:20251205T134603Z
LAST-MODIFIED:20251205T134603Z
UID:5330-1780506000-1780527600@struersejlklub.dk
SUMMARY:Onsdagssejlads
DESCRIPTION:
URL:https://struersejlklub.dk/kalender/onsdagssejlads-6/
LOCATION:Struer Sejlklub\, Ved Fjorden 14\, Struer\, 7600\, Denmark
CATEGORIES:Kapsejlads,Udlejning
ATTACH;FMTTYPE=image/jpeg:https://struersejlklub.dk/wp-content/uploads/Begivenheder/Onsdagssejlads_1.jpg
END:VEVENT
BEGIN:VEVENT
DTSTART;TZID=Europe/Copenhagen:20260607T080000
DTEND;TZID=Europe/Copenhagen:20260608T080000
DTSTAMP:20260422T175918
CREATED:20251111T063625Z
LAST-MODIFIED:20251219T065019Z
UID:5264-1780819200-1780905600@struersejlklub.dk
SUMMARY:Salen udlejet
DESCRIPTION:Karin Lindtorp
URL:https://struersejlklub.dk/kalender/salen-udlejet/
LOCATION:Struer Sejlklub\, Ved Fjorden 14\, Struer\, 7600\, Denmark
CATEGORIES:Udlejning
ATTACH;FMTTYPE=image/jpeg:https://struersejlklub.dk/wp-content/uploads/Klubhus/Salen.jpeg
END:VEVENT
BEGIN:VEVENT
DTSTART;TZID=Europe/Copenhagen:20260609T160000
DTEND;TZID=Europe/Copenhagen:20260609T230000
DTSTAMP:20260422T175918
CREATED:20260413T165232Z
LAST-MODIFIED:20260413T165232Z
UID:5607-1781020800-1781046000@struersejlklub.dk
SUMMARY:Salen optaget - Arrangement Turudvalg
DESCRIPTION:Arrangement Turudvalg
URL:https://struersejlklub.dk/kalender/salen-optaget-arrangement-turudvalg/
LOCATION:Struer Sejlklub\, Ved Fjorden 14\, Struer\, 7600\, Denmark
CATEGORIES:Klubarrangement,Udlejning
ATTACH;FMTTYPE=image/jpeg:https://struersejlklub.dk/wp-content/uploads/Klubhus/Salen.jpeg
END:VEVENT
BEGIN:VEVENT
DTSTART;TZID=Europe/Copenhagen:20260610T170000
DTEND;TZID=Europe/Copenhagen:20260610T230000
DTSTAMP:20260422T175918
CREATED:20251205T134611Z
LAST-MODIFIED:20251205T134611Z
UID:5329-1781110800-1781132400@struersejlklub.dk
SUMMARY:Onsdagssejlads
DESCRIPTION:
URL:https://struersejlklub.dk/kalender/onsdagssejlads-7/
LOCATION:Struer Sejlklub\, Ved Fjorden 14\, Struer\, 7600\, Denmark
CATEGORIES:Kapsejlads,Udlejning
ATTACH;FMTTYPE=image/jpeg:https://struersejlklub.dk/wp-content/uploads/Begivenheder/Onsdagssejlads_1.jpg
END:VEVENT
BEGIN:VEVENT
DTSTART;TZID=Europe/Copenhagen:20260613T080000
DTEND;TZID=Europe/Copenhagen:20260613T213000
DTSTAMP:20260422T175918
CREATED:20251111T064508Z
LAST-MODIFIED:20251205T133234Z
UID:5269-1781337600-1781386200@struersejlklub.dk
SUMMARY:Havnens Dag
DESCRIPTION:
URL:https://struersejlklub.dk/kalender/salen-optaget-havnens-dag/
LOCATION:Struer Sejlklub\, Ved Fjorden 14\, Struer\, 7600\, Denmark
CATEGORIES:Diverse,Udlejning
ATTACH;FMTTYPE=image/jpeg:https://struersejlklub.dk/wp-content/uploads/Begivenheder/havnens-dag-1.jpg
END:VEVENT
BEGIN:VEVENT
DTSTART;TZID=Europe/Copenhagen:20260617T170000
DTEND;TZID=Europe/Copenhagen:20260617T230000
DTSTAMP:20260422T175918
CREATED:20251205T134644Z
LAST-MODIFIED:20251205T134644Z
UID:5327-1781715600-1781737200@struersejlklub.dk
SUMMARY:Onsdagssejlads
DESCRIPTION:Venø Rundt Kort Bane
URL:https://struersejlklub.dk/kalender/onsdagssejlads-9/
LOCATION:Struer Sejlklub\, Ved Fjorden 14\, Struer\, 7600\, Denmark
CATEGORIES:Kapsejlads,Udlejning
ATTACH;FMTTYPE=image/jpeg:https://struersejlklub.dk/wp-content/uploads/Begivenheder/Onsdagssejlads_1.jpg
END:VEVENT
BEGIN:VEVENT
DTSTART;VALUE=DATE:20260618
DTEND;VALUE=DATE:20260622
DTSTAMP:20260422T175918
CREATED:20260116T150530Z
LAST-MODIFIED:20260116T150530Z
UID:5439-1781740800-1782086399@struersejlklub.dk
SUMMARY:Mødelokalet optaget - Stævne
DESCRIPTION:Mødelokalet er optaget til stævnekontor
URL:https://struersejlklub.dk/kalender/moedelokalet-optaget-staevne/
LOCATION:Struer Sejlklub\, Ved Fjorden 14\, Struer\, 7600\, Denmark
CATEGORIES:Kapsejlads,Udlejning
ATTACH;FMTTYPE=image/jpeg:https://struersejlklub.dk/wp-content/uploads/Klubhus/Moedelokale.jpeg
END:VEVENT
BEGIN:VEVENT
DTSTART;VALUE=DATE:20260618
DTEND;VALUE=DATE:20260620
DTSTAMP:20260422T175918
CREATED:20250804T080144Z
LAST-MODIFIED:20251111T065109Z
UID:5182-1781740800-1781913599@struersejlklub.dk
SUMMARY:100 mil i Fjorden
DESCRIPTION:
URL:https://struersejlklub.dk/kalender/salen-optaget-100-mil-i-fjorden/
LOCATION:Struer Sejlklub\, Ved Fjorden 14\, Struer\, 7600\, Denmark
CATEGORIES:Kapsejlads,Udlejning
ATTACH;FMTTYPE=image/jpeg:https://struersejlklub.dk/wp-content/uploads/Begivenheder/100mil_i_fjorden.jpg
END:VEVENT
BEGIN:VEVENT
DTSTART;VALUE=DATE:20260619
DTEND;VALUE=DATE:20260622
DTSTAMP:20260422T175918
CREATED:20251205T135535Z
LAST-MODIFIED:20251205T135535Z
UID:5366-1781827200-1782086399@struersejlklub.dk
SUMMARY:H-bådsligastævne og Melges 24 DM
DESCRIPTION:
URL:https://struersejlklub.dk/kalender/h-baadsligastaevne-og-melges-24-dm/
LOCATION:Struer Sejlklub\, Ved Fjorden 14\, Struer\, 7600\, Denmark
CATEGORIES:Kapsejlads,Udlejning
ATTACH;FMTTYPE=image/jpeg:https://struersejlklub.dk/wp-content/uploads/Begivenheder/h-baads-staevne.jpg
END:VEVENT
BEGIN:VEVENT
DTSTART;TZID=Europe/Copenhagen:20260624T170000
DTEND;TZID=Europe/Copenhagen:20260624T230000
DTSTAMP:20260422T175918
CREATED:20251205T134627Z
LAST-MODIFIED:20251205T134627Z
UID:5328-1782320400-1782342000@struersejlklub.dk
SUMMARY:Onsdagssejlads
DESCRIPTION:
URL:https://struersejlklub.dk/kalender/onsdagssejlads-8/
LOCATION:Struer Sejlklub\, Ved Fjorden 14\, Struer\, 7600\, Denmark
CATEGORIES:Kapsejlads,Udlejning
ATTACH;FMTTYPE=image/jpeg:https://struersejlklub.dk/wp-content/uploads/Begivenheder/Onsdagssejlads_1.jpg
END:VEVENT
END:VCALENDAR