BEGIN:VCALENDAR
VERSION:2.0
PRODID:-//Struer Sejlklub - ECPv6.15.20//NONSGML v1.0//EN
CALSCALE:GREGORIAN
METHOD:PUBLISH
X-ORIGINAL-URL:https://struersejlklub.dk
X-WR-CALDESC:Begivenheder for Struer Sejlklub
REFRESH-INTERVAL;VALUE=DURATION:PT1H
X-Robots-Tag:noindex
X-PUBLISHED-TTL:PT1H
BEGIN:VTIMEZONE
TZID:Europe/Copenhagen
BEGIN:DAYLIGHT
TZOFFSETFROM:+0100
TZOFFSETTO:+0200
TZNAME:CEST
DTSTART:20250330T010000
END:DAYLIGHT
BEGIN:STANDARD
TZOFFSETFROM:+0200
TZOFFSETTO:+0100
TZNAME:CET
DTSTART:20251026T010000
END:STANDARD
BEGIN:DAYLIGHT
TZOFFSETFROM:+0100
TZOFFSETTO:+0200
TZNAME:CEST
DTSTART:20260329T010000
END:DAYLIGHT
BEGIN:STANDARD
TZOFFSETFROM:+0200
TZOFFSETTO:+0100
TZNAME:CET
DTSTART:20261025T010000
END:STANDARD
BEGIN:DAYLIGHT
TZOFFSETFROM:+0100
TZOFFSETTO:+0200
TZNAME:CEST
DTSTART:20270328T010000
END:DAYLIGHT
BEGIN:STANDARD
TZOFFSETFROM:+0200
TZOFFSETTO:+0100
TZNAME:CET
DTSTART:20271031T010000
END:STANDARD
END:VTIMEZONE
BEGIN:VEVENT
DTSTART;VALUE=DATE:20261003
DTEND;VALUE=DATE:20261005
DTSTAMP:20260423T002156
CREATED:20260413T165305Z
LAST-MODIFIED:20260413T165305Z
UID:5606-1790985600-1791158399@struersejlklub.dk
SUMMARY:Salen optaget - Standernedtagning\, reception og fest 100 år
DESCRIPTION:Standernedtagning\, reception og fest 100 år
URL:https://struersejlklub.dk/kalender/salen-optaget-standernedtagning-reception-og-fest-100-aar/
LOCATION:Struer Sejlklub\, Ved Fjorden 14\, Struer\, 7600\, Denmark
CATEGORIES:Klubarrangement,Udlejning
ATTACH;FMTTYPE=image/jpeg:https://struersejlklub.dk/wp-content/uploads/Klubhus/Salen.jpeg
END:VEVENT
END:VCALENDAR