BEGIN:VCALENDAR
VERSION:2.0
PRODID:-//Struer Sejlklub - ECPv6.15.20//NONSGML v1.0//EN
CALSCALE:GREGORIAN
METHOD:PUBLISH
X-WR-CALNAME:Struer Sejlklub
X-ORIGINAL-URL:https://struersejlklub.dk
X-WR-CALDESC:Begivenheder for Struer Sejlklub
REFRESH-INTERVAL;VALUE=DURATION:PT1H
X-Robots-Tag:noindex
X-PUBLISHED-TTL:PT1H
BEGIN:VTIMEZONE
TZID:Europe/Copenhagen
BEGIN:DAYLIGHT
TZOFFSETFROM:+0100
TZOFFSETTO:+0200
TZNAME:CEST
DTSTART:20250330T010000
END:DAYLIGHT
BEGIN:STANDARD
TZOFFSETFROM:+0200
TZOFFSETTO:+0100
TZNAME:CET
DTSTART:20251026T010000
END:STANDARD
BEGIN:DAYLIGHT
TZOFFSETFROM:+0100
TZOFFSETTO:+0200
TZNAME:CEST
DTSTART:20260329T010000
END:DAYLIGHT
BEGIN:STANDARD
TZOFFSETFROM:+0200
TZOFFSETTO:+0100
TZNAME:CET
DTSTART:20261025T010000
END:STANDARD
BEGIN:DAYLIGHT
TZOFFSETFROM:+0100
TZOFFSETTO:+0200
TZNAME:CEST
DTSTART:20270328T010000
END:DAYLIGHT
BEGIN:STANDARD
TZOFFSETFROM:+0200
TZOFFSETTO:+0100
TZNAME:CET
DTSTART:20271031T010000
END:STANDARD
END:VTIMEZONE
BEGIN:VEVENT
DTSTART;TZID=Europe/Copenhagen:20260406T100000
DTEND;TZID=Europe/Copenhagen:20260406T123000
DTSTAMP:20260422T155720
CREATED:20260308T134855Z
LAST-MODIFIED:20260308T181831Z
UID:5527-1775469600-1775478600@struersejlklub.dk
SUMMARY:Standerhejsning
DESCRIPTION:Det er officielt forår og standeren skal op for første gang i de næste 100 år. \nDerfor inviteres I til STANDERHEJSNING mandag den 6. april 2026\, klokken 10.00 i Sejlklubben. \nEfter kanonsalut og sang er der kaffe og brød. \nI kan også få den nye 100-års klubstander. \nVi glæder os til at se jer. \nVenlig hilsen\nBestyrelsen
URL:https://struersejlklub.dk/kalender/standerhejsning/
LOCATION:Struer Sejlklub\, Ved Fjorden 14\, Struer\, 7600\, Denmark
CATEGORIES:Diverse,Klubarrangement,Udlejning
ATTACH;FMTTYPE=image/jpeg:https://struersejlklub.dk/wp-content/uploads/Begivenheder/SSK-Stander.jpg
END:VEVENT
END:VCALENDAR